BEGIN:VCALENDAR
VERSION:2.0
PRODID:-//wp-events-plugin.com//7.2.3.1//EN
TZID:Europe/Berlin
X-WR-TIMEZONE:Europe/Berlin
BEGIN:VEVENT
UID:16@drumstation-maintal.de
DTSTART;TZID=Europe/Berlin:20241019T093000
DTEND;TZID=Europe/Berlin:20241019T160000
DTSTAMP:20240823T140302Z
URL:https://drumstation-maintal.de/events/sonor-expert-day/
SUMMARY:SONOR Expert Day
DESCRIPTION:Am 19. Oktober 2024 findet in der Drum Station Maintal der erst
 e SONOR Expert Day statt.\nAn diesem Tag stehen nicht nur die Produktexper
 ten von SONOR für alle Fragen rund um die Marke zur Verfügung\, vom AQX 
 über Vintage bis zum SQ2 haben wir alle SONOR Serien exklusiv für Dich z
 um Test bereit. Gemeinsam finden wir Dein perfektes SONOR Drumset.\nGanz b
 esonders freuen wir uns auf unseren Gast\, Stephan Emig. Die Referenzen de
 s „Hybrid Drummers“ umfassen weltweite Auftritte sowie Studioarbeiten 
 mit renommierten Künstlern. In seinem Spiel verbindet er auf kreative Wei
 se das traditionelle Schlagzeug mit Perkussionsinstrumenten und Elektronik
  und schafft so einen eigenständigen\, innovativen Stil.\nStephan Emig (s
 onor.com)\nStephan Emig (HP)\nIm Mittelpunkt steht an diesem Tag die Präs
 entation der neuen Snare Drums der Kompressor Serie durch Stephan Emig. De
 r kraftvolle und charakteristische SONOR Sound und die große Auswahl an M
 aterialien und Größen machen diese Snares zu einem echten Arbeitstier.\n
 Als besonderes Bonbon erhaltet ihr auf alle an diesem Tag in der Drum Stat
 ion Maintal gekauften SONOR Kompressor Snares einen zusätzlichen Rabatt v
 on 10%. Außerdem verlosen wir unter allen Gästen eine SONOR Kompressor S
 nare Drum\, KS 14" x 5.75" SDB im Wert von 589\,- Euro.\nSonor Kompressor 
 Snaredrums\nDie Veranstaltung findet während unserer Öffnungszeiten von 
 9:30 bis 16:00 Uhr bei uns in der Drum Station Maintal statt. Eine Anmeldu
 ng ist nicht erforderlich.\nWir freuen uns auf dich!\nDein SONOR Fachhänd
 ler – Drum Station Maintal
ATTACH;FMTTYPE=image/jpeg:https://drumstation-maintal.de/wp-content/upload
 s/2024/08/202408_Instagram_Story-SONOR_expert-day_drumstation.jpg
CATEGORIES:Demonstration,Live-Session
LOCATION:Drum Station Maintal\, Karlstraße 27\, Maintal\, 63477 \, Deutsch
 land
X-APPLE-STRUCTURED-LOCATION;VALUE=URI;X-ADDRESS=Karlstraße 27\, Maintal\, 
 63477 \, Deutschland;X-APPLE-RADIUS=100;X-TITLE=Drum Station Maintal:geo:0
 ,0
END:VEVENT
BEGIN:VTIMEZONE
TZID:Europe/Berlin
X-LIC-LOCATION:Europe/Berlin
BEGIN:DAYLIGHT
DTSTART:20240331T030000
TZOFFSETFROM:+0100
TZOFFSETTO:+0200
TZNAME:CEST
END:DAYLIGHT
END:VTIMEZONE
END:VCALENDAR