BEGIN:VCALENDAR
VERSION:2.0
PRODID:-//Drum Station Maintal - ECPv6.15.18//NONSGML v1.0//EN
CALSCALE:GREGORIAN
METHOD:PUBLISH
X-ORIGINAL-URL:https://drumstation-maintal.de
X-WR-CALDESC:Veranstaltungen für Drum Station Maintal
REFRESH-INTERVAL;VALUE=DURATION:PT1H
X-Robots-Tag:noindex
X-PUBLISHED-TTL:PT1H
BEGIN:VTIMEZONE
TZID:Europe/Berlin
BEGIN:DAYLIGHT
TZOFFSETFROM:+0100
TZOFFSETTO:+0200
TZNAME:CEST
DTSTART:20240331T010000
END:DAYLIGHT
BEGIN:STANDARD
TZOFFSETFROM:+0200
TZOFFSETTO:+0100
TZNAME:CET
DTSTART:20241027T010000
END:STANDARD
BEGIN:DAYLIGHT
TZOFFSETFROM:+0100
TZOFFSETTO:+0200
TZNAME:CEST
DTSTART:20250330T010000
END:DAYLIGHT
BEGIN:STANDARD
TZOFFSETFROM:+0200
TZOFFSETTO:+0100
TZNAME:CET
DTSTART:20251026T010000
END:STANDARD
BEGIN:DAYLIGHT
TZOFFSETFROM:+0100
TZOFFSETTO:+0200
TZNAME:CEST
DTSTART:20260329T010000
END:DAYLIGHT
BEGIN:STANDARD
TZOFFSETFROM:+0200
TZOFFSETTO:+0100
TZNAME:CET
DTSTART:20261025T010000
END:STANDARD
END:VTIMEZONE
BEGIN:VEVENT
DTSTART;TZID=Europe/Berlin:20251216T190000
DTEND;TZID=Europe/Berlin:20251216T200000
DTSTAMP:20260424T104107
CREATED:20250715T124444Z
LAST-MODIFIED:20251212T154327Z
UID:15711-1765911600-1765915200@drumstation-maintal.de
SUMMARY:Klang-Meditationsreise | 16.12. "Rauhnächte"
DESCRIPTION:Eine Fantasiereise in die tieferen Dimensionen des Bewusstseins\, bei der Du von verschiedenen Klanginstrumenten umgeben bist. \nDauer: 60 Minuten inkl Nachruhzeit \nTeilnehmer: Maximal fünf Teilnehmer
URL:https://drumstation-maintal.de/event/klang-meditationsreise-16-12/
LOCATION:Drum Station Maintal\, Karlstraße 27\, Maintal\, 63477\, Germany
CATEGORIES:Klang-Meditationsreise
ATTACH;FMTTYPE=image/webp:https://drumstation-maintal.de/wp-content/uploads/2025/07/veranstaltung_klangewelten_klang_meditationsreise1.webp
ORGANIZER;CN="Drumstation Maintal":MAILTO:info@drumstation-maintal.de
END:VEVENT
END:VCALENDAR