BEGIN:VCALENDAR
VERSION:2.0
PRODID:-//wp-events-plugin.com//7.2.3.1//EN
TZID:Europe/Berlin
X-WR-TIMEZONE:Europe/Berlin
BEGIN:VEVENT
UID:2@drumstation-maintal.de
DTSTART;TZID=Europe/Berlin;VALUE=DATE:20220813
DTEND;TZID=Europe/Berlin;VALUE=DATE:20220814
DTSTAMP:20221214T131022Z
URL:https://drumstation-maintal.de/events/evans-reskin-day-mit-moritz-amrh
 ein/
SUMMARY:Evans Reskin Day mit Moritz Amrhein
DESCRIPTION:&nbsp\;
ATTACH;FMTTYPE=image/jpeg:https://drumstation-maintal.de/wp-content/upload
 s/2022/11/Evans-Reskin-Day-mit-Moritz-Amrhein.jpg
LOCATION:Drum Station Maintal\, Karlstraße 27\, Maintal\, 63477 \, Deutsch
 land
X-APPLE-STRUCTURED-LOCATION;VALUE=URI;X-ADDRESS=Karlstraße 27\, Maintal\, 
 63477 \, Deutschland;X-APPLE-RADIUS=100;X-TITLE=Drum Station Maintal:geo:0
 ,0
END:VEVENT
BEGIN:VTIMEZONE
TZID:Europe/Berlin
X-LIC-LOCATION:Europe/Berlin
BEGIN:DAYLIGHT
DTSTART:20220327T030000
TZOFFSETFROM:+0100
TZOFFSETTO:+0200
TZNAME:CEST
END:DAYLIGHT
END:VTIMEZONE
END:VCALENDAR